Package: LACE Version: 2.4.0 Command: chmod a+r LACE -R && F:\biocbuild\bbs-3.17-bioc\R\bin\R.exe CMD build --keep-empty-dirs --no-resave-data LACE StartedAt: 2023-10-15 20:04:31 -0400 (Sun, 15 Oct 2023) EndedAt: 2023-10-15 20:05:32 -0400 (Sun, 15 Oct 2023) EllapsedTime: 61.7 seconds RetCode: 0 Status: OK PackageFile: LACE_2.4.0.tar.gz PackageFileSize: 4.706 MiB