Package: LACE Version: 2.4.0 Command: rm -rf LACE.buildbin-libdir && mkdir LACE.buildbin-libdir && F:\biocbuild\bbs-3.17-bioc\R\bin\R.exe CMD INSTALL --build --library=LACE.buildbin-libdir LACE_2.4.0.tar.gz StartedAt: 2023-10-16 08:59:59 -0400 (Mon, 16 Oct 2023) EndedAt: 2023-10-16 09:00:39 -0400 (Mon, 16 Oct 2023) EllapsedTime: 40.5 seconds RetCode: 0 Status: OK PackageFile: LACE_2.4.0.zip PackageFileSize: 2.923 MiB