Package: LACE Version: 2.4.0 Command: /home/biocbuild/bbs-3.17-bioc/R/bin/R CMD check --install=check:LACE.install-out.txt --library=/home/biocbuild/bbs-3.17-bioc/R/site-library --timings LACE_2.4.0.tar.gz StartedAt: 2023-10-15 22:20:47 -0400 (Sun, 15 Oct 2023) EndedAt: 2023-10-15 22:24:38 -0400 (Sun, 15 Oct 2023) EllapsedTime: 231.0 seconds RetCode: 0 Status: OK CheckDir: LACE.Rcheck Warnings: 0