Package: LACE Version: 2.4.0 Command: /home/biocbuild/bbs-3.17-bioc/R/bin/R CMD build --keep-empty-dirs --no-resave-data LACE StartedAt: 2023-10-15 17:14:55 -0400 (Sun, 15 Oct 2023) EndedAt: 2023-10-15 17:15:46 -0400 (Sun, 15 Oct 2023) EllapsedTime: 50.3 seconds RetCode: 0 Status: OK PackageFile: LACE_2.4.0.tar.gz PackageFileSize: 4.798 MiB