Package: LACE Version: 2.4.0 Command: /Library/Frameworks/R.framework/Resources/bin/R CMD INSTALL LACE StartedAt: 2023-10-15 15:51:23 -0400 (Sun, 15 Oct 2023) EndedAt: 2023-10-15 15:53:08 -0400 (Sun, 15 Oct 2023) EllapsedTime: 105.4 seconds RetCode: 0 Status: OK