Package: LACE Version: 2.4.0 Command: /Library/Frameworks/R.framework/Resources/bin/R CMD check --install=check:LACE.install-out.txt --library=/Library/Frameworks/R.framework/Resources/library --no-vignettes --timings LACE_2.4.0.tar.gz StartedAt: 2023-10-16 03:10:32 -0400 (Mon, 16 Oct 2023) EndedAt: 2023-10-16 03:19:52 -0400 (Mon, 16 Oct 2023) EllapsedTime: 559.4 seconds RetCode: 0 Status: OK CheckDir: LACE.Rcheck Warnings: 0