Package: LACE Version: 2.4.0 Command: rm -rf LACE.buildbin-libdir && mkdir LACE.buildbin-libdir && /Users/biocbuild/BBS/utils/build-universal.sh LACE_2.4.0.tar.gz /Library/Frameworks/R.framework/Resources/bin/R LACE.buildbin-libdir StartedAt: 2023-10-16 09:37:23 -0400 (Mon, 16 Oct 2023) EndedAt: 2023-10-16 09:39:22 -0400 (Mon, 16 Oct 2023) EllapsedTime: 118.2 seconds RetCode: 0 Status: OK PackageFile: LACE_2.4.0.tgz PackageFileSize: 3.011 MiB