Package: KnowSeq Version: 1.14.1 Command: F:\biocbuild\bbs-3.17-bioc\R\bin\R.exe CMD INSTALL KnowSeq StartedAt: 2023-10-15 16:48:12 -0400 (Sun, 15 Oct 2023) EndedAt: 2023-10-15 16:48:50 -0400 (Sun, 15 Oct 2023) EllapsedTime: 37.5 seconds RetCode: 0 Status: OK