Package: KnowSeq Version: 1.14.1 Command: chmod a+r KnowSeq -R && F:\biocbuild\bbs-3.17-bioc\R\bin\R.exe CMD build --keep-empty-dirs --no-resave-data KnowSeq StartedAt: 2023-10-15 20:04:25 -0400 (Sun, 15 Oct 2023) EndedAt: 2023-10-15 20:06:54 -0400 (Sun, 15 Oct 2023) EllapsedTime: 149.8 seconds RetCode: 0 Status: OK PackageFile: KnowSeq_1.14.1.tar.gz PackageFileSize: 7.851 MiB