Package: KnowSeq Version: 1.14.1 Command: rm -rf KnowSeq.buildbin-libdir && mkdir KnowSeq.buildbin-libdir && F:\biocbuild\bbs-3.17-bioc\R\bin\R.exe CMD INSTALL --build --library=KnowSeq.buildbin-libdir KnowSeq_1.14.1.tar.gz StartedAt: 2023-10-16 08:59:55 -0400 (Mon, 16 Oct 2023) EndedAt: 2023-10-16 09:00:35 -0400 (Mon, 16 Oct 2023) EllapsedTime: 40.3 seconds RetCode: 0 Status: OK PackageFile: KnowSeq_1.14.1.zip PackageFileSize: 6.151 MiB