Package: KnowSeq Version: 1.14.1 Command: /home/biocbuild/bbs-3.17-bioc/R/bin/R CMD build --keep-empty-dirs --no-resave-data KnowSeq StartedAt: 2023-10-15 17:14:53 -0400 (Sun, 15 Oct 2023) EndedAt: 2023-10-15 17:17:11 -0400 (Sun, 15 Oct 2023) EllapsedTime: 138.1 seconds RetCode: 0 Status: OK PackageFile: KnowSeq_1.14.1.tar.gz PackageFileSize: 8.102 MiB