Package: KnowSeq Version: 1.14.1 Command: /Library/Frameworks/R.framework/Resources/bin/R CMD build --keep-empty-dirs --no-resave-data KnowSeq StartedAt: 2023-10-15 19:08:24 -0400 (Sun, 15 Oct 2023) EndedAt: 2023-10-15 19:13:39 -0400 (Sun, 15 Oct 2023) EllapsedTime: 314.2 seconds RetCode: 0 Status: OK PackageFile: KnowSeq_1.14.1.tar.gz PackageFileSize: 8.141 MiB