Package: KEGGgraph Version: 1.60.0 Command: /home/biocbuild/bbs-3.17-bioc/R/bin/R CMD build --keep-empty-dirs --no-resave-data KEGGgraph StartedAt: 2023-10-15 17:14:25 -0400 (Sun, 15 Oct 2023) EndedAt: 2023-10-15 17:15:05 -0400 (Sun, 15 Oct 2023) EllapsedTime: 39.5 seconds RetCode: 0 Status: OK PackageFile: KEGGgraph_1.60.0.tar.gz PackageFileSize: 1.301 MiB