Package: KEGGgraph Version: 1.60.0 Command: /Library/Frameworks/R.framework/Resources/bin/R CMD build --keep-empty-dirs --no-resave-data KEGGgraph StartedAt: 2023-10-15 19:07:19 -0400 (Sun, 15 Oct 2023) EndedAt: 2023-10-15 19:08:44 -0400 (Sun, 15 Oct 2023) EllapsedTime: 85.5 seconds RetCode: 0 Status: OK PackageFile: KEGGgraph_1.60.0.tar.gz PackageFileSize: 1.316 MiB