Package: KEGGREST Version: 1.40.1 Command: /home/biocbuild/bbs-3.17-bioc/R/bin/R CMD INSTALL KEGGREST StartedAt: 2023-10-15 15:13:12 -0400 (Sun, 15 Oct 2023) EndedAt: 2023-10-15 15:13:27 -0400 (Sun, 15 Oct 2023) EllapsedTime: 15.4 seconds RetCode: 0 Status: OK