Package: KCsmart Version: 2.58.0 Command: F:\biocbuild\bbs-3.17-bioc\R\bin\R.exe CMD INSTALL KCsmart StartedAt: 2023-10-15 16:43:59 -0400 (Sun, 15 Oct 2023) EndedAt: 2023-10-15 16:44:17 -0400 (Sun, 15 Oct 2023) EllapsedTime: 17.9 seconds RetCode: 0 Status: OK