Package: KCsmart Version: 2.58.0 Command: rm -rf KCsmart.buildbin-libdir && mkdir KCsmart.buildbin-libdir && F:\biocbuild\bbs-3.17-bioc\R\bin\R.exe CMD INSTALL --build --library=KCsmart.buildbin-libdir KCsmart_2.58.0.tar.gz StartedAt: 2023-10-16 08:59:34 -0400 (Mon, 16 Oct 2023) EndedAt: 2023-10-16 08:59:50 -0400 (Mon, 16 Oct 2023) EllapsedTime: 16.2 seconds RetCode: 0 Status: OK PackageFile: KCsmart_2.58.0.zip PackageFileSize: 2.094 MiB