Package: KCsmart Version: 2.58.0 Command: /home/biocbuild/bbs-3.17-bioc/R/bin/R CMD INSTALL KCsmart StartedAt: 2023-10-15 15:38:18 -0400 (Sun, 15 Oct 2023) EndedAt: 2023-10-15 15:38:28 -0400 (Sun, 15 Oct 2023) EllapsedTime: 10.0 seconds RetCode: 0 Status: OK