Package: KCsmart Version: 2.58.0 Command: /Library/Frameworks/R.framework/Resources/bin/R CMD INSTALL KCsmart StartedAt: 2023-10-15 16:08:22 -0400 (Sun, 15 Oct 2023) EndedAt: 2023-10-15 16:08:56 -0400 (Sun, 15 Oct 2023) EllapsedTime: 34.6 seconds RetCode: 0 Status: OK