Package: KCsmart Version: 2.58.0 Command: /Library/Frameworks/R.framework/Resources/bin/R CMD build --keep-empty-dirs --no-resave-data KCsmart StartedAt: 2023-10-15 19:07:05 -0400 (Sun, 15 Oct 2023) EndedAt: 2023-10-15 19:08:14 -0400 (Sun, 15 Oct 2023) EllapsedTime: 68.6 seconds RetCode: 0 Status: OK PackageFile: KCsmart_2.58.0.tar.gz PackageFileSize: 1.814 MiB