Package: KCsmart Version: 2.58.0 Command: rm -rf KCsmart.buildbin-libdir && mkdir KCsmart.buildbin-libdir && /Users/biocbuild/BBS/utils/build-universal.sh KCsmart_2.58.0.tar.gz /Library/Frameworks/R.framework/Resources/bin/R KCsmart.buildbin-libdir StartedAt: 2023-10-16 09:37:00 -0400 (Mon, 16 Oct 2023) EndedAt: 2023-10-16 09:37:36 -0400 (Mon, 16 Oct 2023) EllapsedTime: 35.8 seconds RetCode: 0 Status: OK PackageFile: KCsmart_2.58.0.tgz PackageFileSize: 2.191 MiB