Package: KBoost Version: 1.8.0 Command: chmod a+r KBoost -R && F:\biocbuild\bbs-3.17-bioc\R\bin\R.exe CMD build --keep-empty-dirs --no-resave-data KBoost StartedAt: 2023-10-15 20:03:23 -0400 (Sun, 15 Oct 2023) EndedAt: 2023-10-15 20:03:36 -0400 (Sun, 15 Oct 2023) EllapsedTime: 12.4 seconds RetCode: 0 Status: OK PackageFile: KBoost_1.8.0.tar.gz PackageFileSize: 503.9 KiB