Package: KBoost Version: 1.8.0 Command: /home/biocbuild/bbs-3.17-bioc/R/bin/R CMD INSTALL KBoost StartedAt: 2023-10-15 15:06:51 -0400 (Sun, 15 Oct 2023) EndedAt: 2023-10-15 15:07:00 -0400 (Sun, 15 Oct 2023) EllapsedTime: 9.1 seconds RetCode: 0 Status: OK