Package: KBoost Version: 1.8.0 Command: /Library/Frameworks/R.framework/Resources/bin/R CMD INSTALL KBoost StartedAt: 2023-10-15 15:03:42 -0400 (Sun, 15 Oct 2023) EndedAt: 2023-10-15 15:04:06 -0400 (Sun, 15 Oct 2023) EllapsedTime: 23.7 seconds RetCode: 0 Status: OK