Package: KBoost Version: 1.8.0 Command: /Library/Frameworks/R.framework/Resources/bin/R CMD check --install=check:KBoost.install-out.txt --library=/Library/Frameworks/R.framework/Resources/library --no-vignettes --timings KBoost_1.8.0.tar.gz StartedAt: 2023-10-16 03:06:43 -0400 (Mon, 16 Oct 2023) EndedAt: 2023-10-16 03:08:08 -0400 (Mon, 16 Oct 2023) EllapsedTime: 85.5 seconds RetCode: 0 Status: OK CheckDir: KBoost.Rcheck Warnings: 0