Package: IsoCorrectoRGUI Version: 1.16.0 Command: chmod a+r IsoCorrectoRGUI -R && F:\biocbuild\bbs-3.17-bioc\R\bin\R.exe CMD build --keep-empty-dirs --no-resave-data IsoCorrectoRGUI StartedAt: 2023-10-15 20:01:58 -0400 (Sun, 15 Oct 2023) EndedAt: 2023-10-15 20:02:12 -0400 (Sun, 15 Oct 2023) EllapsedTime: 14.4 seconds RetCode: 0 Status: OK PackageFile: IsoCorrectoRGUI_1.16.0.tar.gz PackageFileSize: 439.1 KiB