Package: IsoCorrectoRGUI Version: 1.16.0 Command: /home/biocbuild/bbs-3.17-bioc/R/bin/R CMD build --keep-empty-dirs --no-resave-data IsoCorrectoRGUI StartedAt: 2023-10-15 17:13:27 -0400 (Sun, 15 Oct 2023) EndedAt: 2023-10-15 17:13:35 -0400 (Sun, 15 Oct 2023) EllapsedTime: 7.9 seconds RetCode: 0 Status: OK PackageFile: IsoCorrectoRGUI_1.16.0.tar.gz PackageFileSize: 439 KiB