Package: IsoCorrectoRGUI Version: 1.16.0 Command: /Library/Frameworks/R.framework/Resources/bin/R CMD build --keep-empty-dirs --no-resave-data IsoCorrectoRGUI StartedAt: 2023-10-15 19:05:15 -0400 (Sun, 15 Oct 2023) EndedAt: 2023-10-15 19:05:38 -0400 (Sun, 15 Oct 2023) EllapsedTime: 23.1 seconds RetCode: 0 Status: OK PackageFile: IsoCorrectoRGUI_1.16.0.tar.gz PackageFileSize: 438.9 KiB