Package: InteractiveComplexHeatmap Version: 1.8.0 Command: chmod a+r InteractiveComplexHeatmap -R && F:\biocbuild\bbs-3.17-bioc\R\bin\R.exe CMD build --keep-empty-dirs --no-resave-data InteractiveComplexHeatmap StartedAt: 2023-10-15 19:58:38 -0400 (Sun, 15 Oct 2023) EndedAt: 2023-10-15 19:59:23 -0400 (Sun, 15 Oct 2023) EllapsedTime: 45.1 seconds RetCode: 0 Status: OK PackageFile: InteractiveComplexHeatmap_1.8.0.tar.gz PackageFileSize: 886.6 KiB