Package: InteractiveComplexHeatmap Version: 1.8.0 Command: /home/biocbuild/bbs-3.17-bioc/R/bin/R CMD build --keep-empty-dirs --no-resave-data InteractiveComplexHeatmap StartedAt: 2023-10-15 17:11:18 -0400 (Sun, 15 Oct 2023) EndedAt: 2023-10-15 17:11:51 -0400 (Sun, 15 Oct 2023) EllapsedTime: 32.9 seconds RetCode: 0 Status: OK PackageFile: InteractiveComplexHeatmap_1.8.0.tar.gz PackageFileSize: 926 KiB