Package: InteractiveComplexHeatmap Version: 1.8.0 Command: /Library/Frameworks/R.framework/Resources/bin/R CMD build --keep-empty-dirs --no-resave-data InteractiveComplexHeatmap StartedAt: 2023-10-15 19:02:09 -0400 (Sun, 15 Oct 2023) EndedAt: 2023-10-15 19:03:40 -0400 (Sun, 15 Oct 2023) EllapsedTime: 91.5 seconds RetCode: 0 Status: OK PackageFile: InteractiveComplexHeatmap_1.8.0.tar.gz PackageFileSize: 946.4 KiB