Package: InteractiveComplexHeatmap Version: 1.8.0 Command: rm -rf InteractiveComplexHeatmap.buildbin-libdir && mkdir InteractiveComplexHeatmap.buildbin-libdir && /Users/biocbuild/BBS/utils/build-universal.sh InteractiveComplexHeatmap_1.8.0.tar.gz /Library/Frameworks/R.framework/Resources/bin/R InteractiveComplexHeatmap.buildbin-libdir StartedAt: 2023-10-16 09:35:20 -0400 (Mon, 16 Oct 2023) EndedAt: 2023-10-16 09:36:07 -0400 (Mon, 16 Oct 2023) EllapsedTime: 46.9 seconds RetCode: 0 Status: OK PackageFile: InteractiveComplexHeatmap_1.8.0.tgz PackageFileSize: 1.131 MiB