Package: InteractionSet Version: 1.28.1 Command: F:\biocbuild\bbs-3.17-bioc\R\bin\R.exe CMD check --no-multiarch --install=check:InteractionSet.install-out.txt --library=F:\biocbuild\bbs-3.17-bioc\R\library --no-vignettes --timings InteractionSet_1.28.1.tar.gz StartedAt: 2023-10-16 03:16:30 -0400 (Mon, 16 Oct 2023) EndedAt: 2023-10-16 03:20:44 -0400 (Mon, 16 Oct 2023) EllapsedTime: 253.4 seconds RetCode: 0 Status: WARNINGS CheckDir: InteractionSet.Rcheck Warnings: 1