Package: InteractionSet Version: 1.28.1 Command: chmod a+r InteractionSet -R && F:\biocbuild\bbs-3.17-bioc\R\bin\R.exe CMD build --keep-empty-dirs --no-resave-data InteractionSet StartedAt: 2023-10-15 19:58:34 -0400 (Sun, 15 Oct 2023) EndedAt: 2023-10-15 19:59:51 -0400 (Sun, 15 Oct 2023) EllapsedTime: 77.0 seconds RetCode: 0 Status: OK PackageFile: InteractionSet_1.28.1.tar.gz PackageFileSize: 391.4 KiB