Package: InteractionSet Version: 1.28.1 Command: rm -rf InteractionSet.buildbin-libdir && mkdir InteractionSet.buildbin-libdir && F:\biocbuild\bbs-3.17-bioc\R\bin\R.exe CMD INSTALL --build --library=InteractionSet.buildbin-libdir InteractionSet_1.28.1.tar.gz StartedAt: 2023-10-16 08:57:55 -0400 (Mon, 16 Oct 2023) EndedAt: 2023-10-16 08:59:08 -0400 (Mon, 16 Oct 2023) EllapsedTime: 72.1 seconds RetCode: 0 Status: OK PackageFile: InteractionSet_1.28.1.zip PackageFileSize: 1.856 MiB