Package: InteractionSet Version: 1.28.1 Command: /home/biocbuild/bbs-3.17-bioc/R/bin/R CMD build --keep-empty-dirs --no-resave-data InteractionSet StartedAt: 2023-10-15 17:11:13 -0400 (Sun, 15 Oct 2023) EndedAt: 2023-10-15 17:12:11 -0400 (Sun, 15 Oct 2023) EllapsedTime: 58.2 seconds RetCode: 0 Status: OK PackageFile: InteractionSet_1.28.1.tar.gz PackageFileSize: 391.1 KiB