Package: InteractionSet Version: 1.28.1 Command: /Library/Frameworks/R.framework/Resources/bin/R CMD INSTALL InteractionSet StartedAt: 2023-10-15 15:14:28 -0400 (Sun, 15 Oct 2023) EndedAt: 2023-10-15 15:17:04 -0400 (Sun, 15 Oct 2023) EllapsedTime: 156.3 seconds RetCode: 0 Status: OK