Package: InteractionSet Version: 1.28.1 Command: /Library/Frameworks/R.framework/Resources/bin/R CMD check --install=check:InteractionSet.install-out.txt --library=/Library/Frameworks/R.framework/Resources/library --no-vignettes --timings InteractionSet_1.28.1.tar.gz StartedAt: 2023-10-16 02:53:57 -0400 (Mon, 16 Oct 2023) EndedAt: 2023-10-16 03:04:34 -0400 (Mon, 16 Oct 2023) EllapsedTime: 637.5 seconds RetCode: 0 Status: WARNINGS CheckDir: InteractionSet.Rcheck Warnings: 1