Package: InteractionSet Version: 1.28.1 Command: /Library/Frameworks/R.framework/Resources/bin/R CMD build --keep-empty-dirs --no-resave-data InteractionSet StartedAt: 2023-10-15 19:01:48 -0400 (Sun, 15 Oct 2023) EndedAt: 2023-10-15 19:04:26 -0400 (Sun, 15 Oct 2023) EllapsedTime: 158.0 seconds RetCode: 0 Status: OK PackageFile: InteractionSet_1.28.1.tar.gz PackageFileSize: 391 KiB