Package: InterCellar Version: 2.6.0 Command: chmod a+r InterCellar -R && F:\biocbuild\bbs-3.17-bioc\R\bin\R.exe CMD build --keep-empty-dirs --no-resave-data InterCellar StartedAt: 2023-10-15 19:59:17 -0400 (Sun, 15 Oct 2023) EndedAt: 2023-10-15 20:00:05 -0400 (Sun, 15 Oct 2023) EllapsedTime: 48.2 seconds RetCode: 0 Status: OK PackageFile: InterCellar_2.6.0.tar.gz PackageFileSize: 4.015 MiB