Package: IntOMICS Version: 1.0.0 Command: /Library/Frameworks/R.framework/Resources/bin/R CMD build --keep-empty-dirs --no-resave-data IntOMICS StartedAt: 2023-10-15 19:03:06 -0400 (Sun, 15 Oct 2023) EndedAt: 2023-10-15 19:07:42 -0400 (Sun, 15 Oct 2023) EllapsedTime: 276.2 seconds RetCode: 0 Status: OK PackageFile: IntOMICS_1.0.0.tar.gz PackageFileSize: 2.429 MiB