Package: IntEREst Version: 1.24.0 Command: rm -rf IntEREst.buildbin-libdir && mkdir IntEREst.buildbin-libdir && F:\biocbuild\bbs-3.17-bioc\R\bin\R.exe CMD INSTALL --build --library=IntEREst.buildbin-libdir IntEREst_1.24.0.tar.gz StartedAt: 2023-10-16 08:58:09 -0400 (Mon, 16 Oct 2023) EndedAt: 2023-10-16 08:59:13 -0400 (Mon, 16 Oct 2023) EllapsedTime: 63.9 seconds RetCode: 0 Status: OK PackageFile: IntEREst_1.24.0.zip PackageFileSize: 1.827 MiB