Package: IntEREst Version: 1.24.0 Command: /home/biocbuild/bbs-3.17-bioc/R/bin/R CMD check --install=check:IntEREst.install-out.txt --library=/home/biocbuild/bbs-3.17-bioc/R/site-library --timings IntEREst_1.24.0.tar.gz StartedAt: 2023-10-15 22:12:40 -0400 (Sun, 15 Oct 2023) EndedAt: 2023-10-15 22:19:06 -0400 (Sun, 15 Oct 2023) EllapsedTime: 386.1 seconds RetCode: 0 Status: OK CheckDir: IntEREst.Rcheck Warnings: 0