Package: IntEREst Version: 1.24.0 Command: /Library/Frameworks/R.framework/Resources/bin/R CMD build --keep-empty-dirs --no-resave-data IntEREst StartedAt: 2023-10-15 19:02:41 -0400 (Sun, 15 Oct 2023) EndedAt: 2023-10-15 19:07:16 -0400 (Sun, 15 Oct 2023) EllapsedTime: 274.6 seconds RetCode: 0 Status: OK PackageFile: IntEREst_1.24.0.tar.gz PackageFileSize: 1.405 MiB