Package: InTAD Version: 1.20.0 Command: /home/biocbuild/bbs-3.17-bioc/R/bin/R CMD INSTALL InTAD StartedAt: 2023-10-15 15:44:58 -0400 (Sun, 15 Oct 2023) EndedAt: 2023-10-15 15:45:33 -0400 (Sun, 15 Oct 2023) EllapsedTime: 35.0 seconds RetCode: 0 Status: OK