Package: InTAD Version: 1.20.0 Command: /Library/Frameworks/R.framework/Resources/bin/R CMD check --install=check:InTAD.install-out.txt --library=/Library/Frameworks/R.framework/Resources/library --no-vignettes --timings InTAD_1.20.0.tar.gz StartedAt: 2023-10-16 02:53:31 -0400 (Mon, 16 Oct 2023) EndedAt: 2023-10-16 03:06:17 -0400 (Mon, 16 Oct 2023) EllapsedTime: 766.8 seconds RetCode: 0 Status: OK CheckDir: InTAD.Rcheck Warnings: 0