Package: InPAS Version: 2.8.0 Command: chmod a+r InPAS -R && F:\biocbuild\bbs-3.17-bioc\R\bin\R.exe CMD build --keep-empty-dirs --no-resave-data InPAS StartedAt: 2023-10-15 19:57:47 -0400 (Sun, 15 Oct 2023) EndedAt: 2023-10-15 20:01:51 -0400 (Sun, 15 Oct 2023) EllapsedTime: 244.0 seconds RetCode: 0 Status: OK PackageFile: InPAS_2.8.0.tar.gz PackageFileSize: 1.315 MiB