Package: InPAS Version: 2.8.0 Command: rm -rf InPAS.buildbin-libdir && mkdir InPAS.buildbin-libdir && F:\biocbuild\bbs-3.17-bioc\R\bin\R.exe CMD INSTALL --build --library=InPAS.buildbin-libdir InPAS_2.8.0.tar.gz StartedAt: 2023-10-16 08:57:44 -0400 (Mon, 16 Oct 2023) EndedAt: 2023-10-16 08:58:48 -0400 (Mon, 16 Oct 2023) EllapsedTime: 64.1 seconds RetCode: 0 Status: OK PackageFile: InPAS_2.8.0.zip PackageFileSize: 3.434 MiB