Package: InPAS Version: 2.8.0 Command: /Library/Frameworks/R.framework/Resources/bin/R CMD check --install=check:InPAS.install-out.txt --library=/Library/Frameworks/R.framework/Resources/library --no-vignettes --timings InPAS_2.8.0.tar.gz StartedAt: 2023-10-02 02:58:46 -0400 (Mon, 02 Oct 2023) EndedAt: 2023-10-02 03:14:01 -0400 (Mon, 02 Oct 2023) EllapsedTime: 914.5 seconds RetCode: 0 Status: OK CheckDir: InPAS.Rcheck Warnings: 0