Package: InPAS Version: 2.8.0 Command: /Library/Frameworks/R.framework/Resources/bin/R CMD build --keep-empty-dirs --no-resave-data InPAS StartedAt: 2023-10-15 19:00:21 -0400 (Sun, 15 Oct 2023) EndedAt: 2023-10-15 19:05:01 -0400 (Sun, 15 Oct 2023) EllapsedTime: 280.2 seconds RetCode: 1 Status: ERROR PackageFile: None PackageFileSize: NA